BEGIN:VCALENDAR
VERSION:2.0
PRODID:-//hacksw/handcal//NONSGML v1.0//EN
BEGIN:VEVENT
DTSTART:20161108T123000
DTEND:20161108T143000
LOCATION:siège
ORGANIZER;CN=Dominique DELORT:MAILTO:domdelort@orange.fr
SUMMARY:Café du Cyrard.
DESCRIPTION:\n
URL:https://www.saint-cyr.org/fr/event/cafe-du-cyrard/2016/11/08/173
BEGIN:VALARM
TRIGGER:-P0DT1H0M0S
ACTION:DISPLAY
END:VALARM
END:VEVENT
END:VCALENDAR