BEGIN:VCALENDAR
VERSION:2.0
PRODID:-//hacksw/handcal//NONSGML v1.0//EN
BEGIN:VEVENT
DTSTART:20180626T190000
DTEND:20180626T220000
LOCATION:Siège de La Saint-Cyrienne \n6, Avenue Sully-Prudhomme \n75007 PARIS
ORGANIZER;CN=Aude de Montgros:MAILTO:
SUMMARY:RENCONTRE MENSUELLE  DES RESEAUX SAINT-CYR
DESCRIPTION:RENCONTRE MENSUELLE\n DES RESEAUX SAINT-CYR\nLe mardi 26 juin et Mardi 31 juillet  2018 à partir de 19 heures\n au Caveau Montpensier, Paris I°\nCes soirées conviviales organisées par l'ASCVIC, sont...
URL:https://www.saint-cyr.org/fr/event/rencontre-mensuelle-des-reseaux-saint-cyr/2018/06/26/415
BEGIN:VALARM
TRIGGER:-P0DT1H0M0S
ACTION:DISPLAY
END:VALARM
END:VEVENT
END:VCALENDAR