BEGIN:VCALENDAR
VERSION:2.0
PRODID:-//hacksw/handcal//NONSGML v1.0//EN
BEGIN:VEVENT
DTSTART:20181004T090000
DTEND:20181004T170000
LOCATION:Palais Neptune
ORGANIZER;CN=Aude de Montgros:MAILTO:
SUMMARY:FORUM EMPLOI le jeudi 4 octobre 2018, entre 9H et 17H sans interruption, au Palais Neptune à Toulon. Un autre forum spécialement dédié aux conjoints aura lieu au château de Vincennes le 18 octobre AM.
DESCRIPTION:1- L'antenne Défense Mobilité de Toulon organisera son FORUM EMPLOI le jeudi 4 octobre 2018, entre 9H et 17H sans interruption, au Palais Neptune à Toulon.Ce forum est ouvert aux militaires, civils ou...
URL:https://www.saint-cyr.org/fr/event/forum-emploi-le-jeudi-4-octobre-2018-entre-9h-et-17h-sans-interruption-au-palais-neptune-a-toulon-un-autre-forum-specialement-dedie-aux-conjoints-aura-lieu-au-chateau-de-vincennes-le-18-octobre-am/2018/10/04/424
BEGIN:VALARM
TRIGGER:-P0DT1H0M0S
ACTION:DISPLAY
END:VALARM
END:VEVENT
END:VCALENDAR