BEGIN:VCALENDAR
VERSION:2.0
PRODID:-//hacksw/handcal//NONSGML v1.0//EN
BEGIN:VEVENT
DTSTART:20210914T120000
DTEND:20210914T143000
LOCATION:La Saint-Cyrienne \n75007 PARIS
ORGANIZER;CN=Anne-Charlotte BOILEAU:MAILTO:secretariat@saint-cyr.org
SUMMARY:Café du Cyrard - Mardi 14 septembre 2021
DESCRIPTION:L'embellissement du siège  et les vacances sont terminés  !!\nNous donnons rendez-vous à tous les Saint-Cyriens pour le Café du Cyrard de rentrée qui se tiendra le \nmardi 14 septembre 2021 à partir...
URL:https://www.saint-cyr.org/fr/event/cafe-du-cyrard-mardi-14-septembre-2021/2021/09/14/518
BEGIN:VALARM
TRIGGER:-P0DT1H0M0S
ACTION:DISPLAY
END:VALARM
END:VEVENT
END:VCALENDAR